BEGIN:VCALENDAR
VERSION:2.0
PRODID:-//ChamberMaster//Event Calendar 2.0//EN
METHOD:PUBLISH
X-PUBLISHED-TTL:P3D
REFRESH-INTERVAL:P3D
CALSCALE:GREGORIAN
BEGIN:VEVENT
DTSTART:20270326T000000Z
DTEND:20270326T023000Z
X-MICROSOFT-CDO-ALLDAYEVENT:FALSE
SUMMARY:Beading with Elizabeth George
DESCRIPTION:
X-ALT-DESC;FMTTYPE=text/html:
LOCATION:uu ma uk as Arts and Commerce Hub Downstairs in the Tofino Legion 331 Main Street
UID:e.2867.3620
SEQUENCE:3
DTSTAMP:20260423T101555Z
URL:https://business.tofinochamber.org/events/details/tac-drop-in-art-day-03-25-2027-3620
END:VEVENT

END:VCALENDAR
