BEGIN:VCALENDAR
VERSION:2.0
PRODID:-//ChamberMaster//Event Calendar 2.0//EN
METHOD:PUBLISH
X-PUBLISHED-TTL:P3D
REFRESH-INTERVAL:P3D
CALSCALE:GREGORIAN
BEGIN:VEVENT
DTSTART:20261201T033000Z
DTEND:20261201T053000Z
X-MICROSOFT-CDO-ALLDAYEVENT:FALSE
SUMMARY:Monday Night Movies
DESCRIPTION:Visit the website for upcoming movies\, links to official sites\, trailers\, reviews\, last-minute updates (like additions or cancellations)\, and other valuable information to enhance your movie night experience in Tofino!\n\n\n\nIf you have questions or suggestions for future movies contact Sandi at: sandi.rideout@gmail.com We hope you enjoy the movies. See you there!\n\n\n\nSponsored by the Clayoquot Sound Community Theatre Association and the District of Tofino. Thank you!
X-ALT-DESC;FMTTYPE=text/html:<br />\n<br />\n<span style="color: rgb(78\, 40\, 0)\; font-family: Arial\, Tahoma\, Helvetica\, FreeSans\, sans-serif\; font-size: 14px\;">Visit the website for upcoming movies\, links to official sites\, trailers\, reviews\, last-minute updates (like additions or cancellations)\, and other valuable information to enhance your movie night experience in Tofino!<br />\n<br />\nIf you have questions or suggestions for future movies contact Sandi at:&nbsp\;</span><a href="https://tofinomovies.blogspot.com/sandi.rideout@gmail.com" style="text-decoration-line: none\; color: rgb(244\, 141\, 29)\; font-family: Arial\, Tahoma\, Helvetica\, FreeSans\, sans-serif\; font-size: 14px\;">sandi.rideout@gmail.com</a><span style="color: rgb(78\, 40\, 0)\; font-family: Arial\, Tahoma\, Helvetica\, FreeSans\, sans-serif\; font-size: 14px\;">&nbsp\;We hope you enjoy the movies. See you there!</span><br />\n<br />\nSponsored by the Clayoquot Sound Community Theatre Association and the District of Tofino. Thank you!&nbsp\;
LOCATION:380 Campbell St (corner of Campbell & 3rd St) Tofino\, BC V0R 2Z0
UID:e.2867.2980
SEQUENCE:3
DTSTAMP:20260423T050152Z
URL:https://business.tofinochamber.org/events/details/monday-night-movies-11-30-2026-2980
END:VEVENT

END:VCALENDAR
