BEGIN:VCALENDAR
VERSION:2.0
PRODID:-//ChamberMaster//Event Calendar 2.0//EN
METHOD:PUBLISH
X-PUBLISHED-TTL:P3D
REFRESH-INTERVAL:P3D
CALSCALE:GREGORIAN
BEGIN:VEVENT
DTSTART:20191205T163000Z
DTEND:20191205T173000Z
X-MICROSOFT-CDO-ALLDAYEVENT:FALSE
SUMMARY:Mayor's Breakfast with Mayor Josie Osborne
DESCRIPTION:Join the Chamber and Tofino Mayor Josie Osborne for an informal discussion at the Mayor's Breakfast on Thurs.\, Dec. 5th upstairs at the Common Loaf Bake Shop. Mayor Osborne will be discussing the Alberni-Clayoquot Regional District and its services\, as well as your questions. No RSVP is necessary\, thanks to Maureen and her staff for hosting us!
X-ALT-DESC;FMTTYPE=text/html:Join the Chamber and Tofino Mayor Josie Osborne for an informal discussion at the Mayor&#39\;s Breakfast on Thurs.\, Dec. 5th upstairs at the Common Loaf Bake Shop. Mayor Osborne will be discussing the Alberni-Clayoquot Regional District and its services\, as well as your questions. No RSVP is necessary\, thanks to Maureen and her staff for hosting us!&nbsp\;
LOCATION:
UID:e.2867.2066
SEQUENCE:3
DTSTAMP:20260423T060350Z
URL:https://business.tofinochamber.org/events/details/mayor-s-breakfast-with-mayor-josie-osborne-2066
END:VEVENT

END:VCALENDAR
