BEGIN:VCALENDAR
VERSION:2.0
PRODID:-//ChamberMaster//Event Calendar 2.0//EN
METHOD:PUBLISH
X-PUBLISHED-TTL:P3D
REFRESH-INTERVAL:P3D
CALSCALE:GREGORIAN
BEGIN:VEVENT
DTSTART:20260423T003000Z
DTEND:20260423T023000Z
X-MICROSOFT-CDO-ALLDAYEVENT:FALSE
SUMMARY:Hiring & Onboarding for Staff Success Session 2
DESCRIPTION:Join the Chamber & Alex Penney from Sea Kelp HR for a Workforce Workshop on Hiring & Onboarding for Staff Success\n\nA practical and hands-on workshop to help small and growing businesses hire the right people and onboard them effectively - reducing turnover\, improving performance\, and building a positive workplace culture from day one.\n\nBy the end of the 2-hour seminar\, participants will be able to:\n\n\n	Understand the true cost of a bad hire and a poor onboarding experience\n	Conduct more effective\, legally compliant interviews\n	Recognize the benefits of a consistent and intentional onboarding process\n	Set new hires up for early success and retention\n\n\nThe session will include an open Q&A to ask all your burning HR questions.\n\nMay 5th at 2:00pm or 5:30pm at the Arts and Commerce Hub
X-ALT-DESC;FMTTYPE=text/html:<div color:="" data-block="true" data-editor="99gtj" data-offset-key="f1j4o-0-0" font-size:="" optimistic="" style="font-family: " white-space:="">\n<div class="_1mf _1mj" data-offset-key="f1j4o-0-0" style="position: relative\; direction: ltr\; font-family: inherit\;">\n<p style="margin:0in\;font-family:inherit\;font-size:9.75pt\;color:#333333">Join the Chamber &amp\; Alex Penney from Sea Kelp HR for a Workforce Workshop on Hiring &amp\; Onboarding for Staff Success</p>\n\n<p style="margin:0in\;font-family:inherit\;font-size:9.75pt\;color:#333333">A practical and hands-on workshop to help small and growing businesses hire the right people and onboard them effectively - reducing turnover\, improving performance\, and building a positive workplace culture from day one.</p>\n\n<p style="margin:0in\;font-family:inherit\;font-size:9.75pt\;color:#333333">By the end of the 2-hour seminar\, participants will be able to:</p>\n\n<ul style="direction:ltr\;unicode-bidi:embed\;margin-top:0in\;\n margin-bottom:0in" type="disc">\n	<li style="margin-top:0\;margin-bottom:0\;vertical-align:middle\;color:#333333"><span style="font-family:inherit\;font-size:9.75pt">Understand the true cost of a bad hire and a poor onboarding experience</span></li>\n	<li style="margin-top:0\;margin-bottom:0\;vertical-align:middle\;color:#333333"><span style="font-family:inherit\;font-size:9.75pt">Conduct more effective\, legally compliant interviews</span></li>\n	<li style="margin-top:0\;margin-bottom:0\;vertical-align:middle\;color:#333333"><span style="font-family:inherit\;font-size:9.75pt">Recognize the benefits of a consistent and intentional onboarding process</span></li>\n	<li style="margin-top:0\;margin-bottom:0\;vertical-align:middle\;color:#333333"><span style="font-family:inherit\;font-size:9.75pt">Set new hires up for early success and retention</span></li>\n</ul>\n\n<p style="margin:0in\;font-family:inherit\;font-size:9.75pt\;color:#333333">The session will include an open Q&amp\;A to ask all your burning HR questions.</p>\n\n<p style="margin:0in\;font-family:inherit\;font-size:9.75pt\;color:#333333">May 5th at 2:00pm or 5:30pm at the Arts and Commerce Hub</p>\n</div>\n</div>\n
LOCATION:Arts & Commerce Hub 331 Main St
UID:e.2867.4536
SEQUENCE:3
DTSTAMP:20260423T013438Z
URL:https://business.tofinochamber.org/events/details/hiring-onboarding-for-staff-success-session-2-4536
END:VEVENT

END:VCALENDAR
