BEGIN:VCALENDAR
VERSION:2.0
PRODID:-//ChamberMaster//Event Calendar 2.0//EN
METHOD:PUBLISH
X-PUBLISHED-TTL:P3D
REFRESH-INTERVAL:P3D
CALSCALE:GREGORIAN
BEGIN:VEVENT
DTSTART:20260729T173000Z
DTEND:20260729T193000Z
X-MICROSOFT-CDO-ALLDAYEVENT:FALSE
SUMMARY:Fish & Loaves
DESCRIPTION:Upstairs at the Tofino Legion \, the food bank\, free store\, and free lunch will all be there\, opening 10:30am lunch served at 11:30 am
X-ALT-DESC;FMTTYPE=text/html:<br />\n<br />\n<span style="color: rgb(226\, 229\, 233)\; font-family: &quot\;Segoe UI Historic&quot\;\, &quot\;Segoe UI&quot\;\, Helvetica\, Arial\, sans-serif\; font-size: 15px\; white-space-collapse: preserve\; background-color: rgb(37\, 39\, 40)\;">Upstairs at the Tofino Legion \, the food bank\, free store\, and free lunch will all be there\, opening 10:30am lunch served at 11:30 am</span>
LOCATION:
UID:e.2867.3883
SEQUENCE:3
DTSTAMP:20260423T003409Z
URL:https://business.tofinochamber.org/events/details/fish-loaves-07-29-2026-3883
END:VEVENT

END:VCALENDAR
