BEGIN:VCALENDAR
VERSION:2.0
PRODID:-//ChamberMaster//Event Calendar 2.0//EN
METHOD:PUBLISH
X-PUBLISHED-TTL:P3D
REFRESH-INTERVAL:P3D
CALSCALE:GREGORIAN
BEGIN:VEVENT
DTSTART:20200123T170000Z
DTEND:20200123T183000Z
X-MICROSOFT-CDO-ALLDAYEVENT:FALSE
SUMMARY:Chamber Board of Directors Meeting
DESCRIPTION:The Tofino-Long Beach Chamber of Commerce board of directors meeting is scheduled for Thursday\, January 23rd at 9am. It will be held in the Community Meeting Room at the Cox Bay info center. To have something added to the agenda for the board's consideration\, please email info@tofinochamber.org
X-ALT-DESC;FMTTYPE=text/html:The Tofino-Long Beach Chamber of Commerce board of directors meeting is scheduled for Thursday\, January 23rd at 9am. It will be held in the Community Meeting Room at the Cox Bay info center. To have something added to the agenda for the board&#39\;s consideration\, please email info@tofinochamber.org
LOCATION:
UID:e.2867.2070
SEQUENCE:3
DTSTAMP:20260424T232825Z
URL:https://business.tofinochamber.org/events/details/chamber-board-of-directors-meeting-2070
END:VEVENT

END:VCALENDAR
